BEGIN:VCALENDAR
VERSION:2.0
PRODID:icalendar-ruby
CALSCALE:GREGORIAN
BEGIN:VEVENT
DTSTAMP:20260421T155528Z
UID:16817f89-e7a5-45a0-af08-c77fb7e60e39
DTSTART;VALUE=DATE:20250522
DESCRIPTION:Property ID# 592032\, Locatoin: 98 Moorhouse Ave\, Christchurch
 \, Time: 11:00AM
SUMMARY:Auction for 
END:VEVENT
END:VCALENDAR
