BEGIN:VCALENDAR
VERSION:2.0
PRODID:icalendar-ruby
CALSCALE:GREGORIAN
BEGIN:VEVENT
DTSTAMP:20260420T123114Z
UID:2cd20ba1-a6ab-4062-8105-251fb958956f
DTSTART;VALUE=DATE:20260415
DESCRIPTION:Property ID# 605706\, Locatoin: Onsite (unless sold prior)\, Ti
 me: 1:00PM
SUMMARY:Auction for 
END:VEVENT
END:VCALENDAR
