BEGIN:VCALENDAR
VERSION:2.0
PRODID:icalendar-ruby
CALSCALE:GREGORIAN
BEGIN:VEVENT
DTSTAMP:20260422T142424Z
UID:3394e9fb-b9d1-4b61-abf5-f49c6172b57d
DTSTART;TZID=Pacific/Auckland:20260426T111500
DTEND;TZID=Pacific/Auckland:20260426T120000
DESCRIPTION:Property ID# 606797
SUMMARY:Openhome for 46 Veitches Road
END:VEVENT
END:VCALENDAR
